BEGIN:VCALENDAR
VERSION:2.0
PRODID:-//ONG Luz de Sophia - ECPv6.15.16//NONSGML v1.0//EN
CALSCALE:GREGORIAN
METHOD:PUBLISH
X-WR-CALNAME:ONG Luz de Sophia
X-ORIGINAL-URL:https://teste.luzdesophia.org
X-WR-CALDESC:Eventos para ONG Luz de Sophia
REFRESH-INTERVAL;VALUE=DURATION:PT1H
X-Robots-Tag:noindex
X-PUBLISHED-TTL:PT1H
BEGIN:VTIMEZONE
TZID:UTC
BEGIN:STANDARD
TZOFFSETFROM:+0000
TZOFFSETTO:+0000
TZNAME:UTC
DTSTART:20200101T000000
END:STANDARD
END:VTIMEZONE
BEGIN:VTIMEZONE
TZID:America/Sao_Paulo
BEGIN:STANDARD
TZOFFSETFROM:-0200
TZOFFSETTO:-0300
TZNAME:-03
DTSTART:20190217T020000
END:STANDARD
END:VTIMEZONE
BEGIN:VEVENT
DTSTART;TZID=UTC:20220112T090000
DTEND;TZID=UTC:20220112T150000
DTSTAMP:20260419T155859
CREATED:20210726T130620Z
LAST-MODIFIED:20210726T130620Z
UID:733-1641978000-1641999600@teste.luzdesophia.org
SUMMARY:Personal Fitness Challenge
DESCRIPTION:Event Description\nNor again is there anyone who loves or pursues or desires to pain of itself\, because it is pain\, but because occasionally circumstances occur in which toil and paincan procure him some great pleasure. To take a trivial example\, which of us ever undertakes laborious except to obtain some advantage from it? But who has any right to find fault with a man who chooses. \nMust explain to you how all this mistaken idea of denouncing pleasure and praising pain was born and I will give you a completed great the great explorer of the truth\, the master-builder of human happiness except to obtain some advantage. \n\n\nWhat will You Learn?\n\nHow to use social media to reach local\, national and international audiences\nHow to set up and market events\, using online tools\, so you no longer depend on venues or festivals to organise on your behalf\nHow to create and run online shows\, adapt your performance techniques and manage your audience throughout a show\nTakeaway training material\nMentoring and troubleshooting and post-training support from Jason\nHow to use social media to reach local\, national and international audiences\nHow to set up and market events\, using online tools\nAdapt your performance techniques and manage your audience throughout a show\nTakeaway training material
URL:https://teste.luzdesophia.org/evento/personal-fitness-challenge/
LOCATION:Newyork
CATEGORIES:Recent Events V2
ATTACH;FMTTYPE=image/jpeg:https://teste.luzdesophia.org/wp-content/uploads/2021/07/news-10.jpg
END:VEVENT
BEGIN:VEVENT
DTSTART;TZID=UTC:20220111T090000
DTEND;TZID=UTC:20220111T160000
DTSTAMP:20260419T155859
CREATED:20210726T132437Z
LAST-MODIFIED:20210726T132437Z
UID:740-1641891600-1641916800@teste.luzdesophia.org
SUMMARY:Royal Parks Half Marathon
DESCRIPTION:Event Description\nNor again is there anyone who loves or pursues or desires to pain of itself\, because it is pain\, but because occasionally circumstances occur in which toil and paincan procure him some great pleasure. To take a trivial example\, which of us ever undertakes laborious except to obtain some advantage from it? But who has any right to find fault with a man who chooses. \nMust explain to you how all this mistaken idea of denouncing pleasure and praising pain was born and I will give you a completed great the great explorer of the truth\, the master-builder of human happiness except to obtain some advantage. \n\n\nWhat will You Learn?\n\nHow to use social media to reach local\, national and international audiences\nHow to set up and market events\, using online tools\, so you no longer depend on venues or festivals to organise on your behalf\nHow to create and run online shows\, adapt your performance techniques and manage your audience throughout a show\nTakeaway training material\nMentoring and troubleshooting and post-training support from Jason\nHow to use social media to reach local\, national and international audiences\nHow to set up and market events\, using online tools\nAdapt your performance techniques and manage your audience throughout a show\nTakeaway training material
URL:https://teste.luzdesophia.org/evento/royal-parks-half-marathon-3/
LOCATION:Newyork
CATEGORIES:Events List View
ATTACH;FMTTYPE=image/jpeg:https://teste.luzdesophia.org/wp-content/uploads/2021/07/news-11.jpg
END:VEVENT
BEGIN:VEVENT
DTSTART;TZID=UTC:20211217T100000
DTEND;TZID=UTC:20211217T170000
DTSTAMP:20260419T155859
CREATED:20210726T132542Z
LAST-MODIFIED:20210726T132542Z
UID:747-1639735200-1639760400@teste.luzdesophia.org
SUMMARY:Pure Hearts Virtual Brain Game
DESCRIPTION:Event Description\nNor again is there anyone who loves or pursues or desires to pain of itself\, because it is pain\, but because occasionally circumstances occur in which toil and paincan procure him some great pleasure. To take a trivial example\, which of us ever undertakes laborious except to obtain some advantage from it? But who has any right to find fault with a man who chooses. \nMust explain to you how all this mistaken idea of denouncing pleasure and praising pain was born and I will give you a completed great the great explorer of the truth\, the master-builder of human happiness except to obtain some advantage. \n\n\nWhat will You Learn?\n\nHow to use social media to reach local\, national and international audiences\nHow to set up and market events\, using online tools\, so you no longer depend on venues or festivals to organise on your behalf\nHow to create and run online shows\, adapt your performance techniques and manage your audience throughout a show\nTakeaway training material\nMentoring and troubleshooting and post-training support from Jason\nHow to use social media to reach local\, national and international audiences\nHow to set up and market events\, using online tools\nAdapt your performance techniques and manage your audience throughout a show\nTakeaway training material
URL:https://teste.luzdesophia.org/evento/pure-hearts-virtual-brain-game-2/
LOCATION:California
CATEGORIES:Events List View
ATTACH;FMTTYPE=image/jpeg:https://teste.luzdesophia.org/wp-content/uploads/2021/07/news-12.jpg
END:VEVENT
BEGIN:VEVENT
DTSTART;VALUE=DATE:20200311
DTEND;VALUE=DATE:20200312
DTSTAMP:20260419T155859
CREATED:20200713T174705Z
LAST-MODIFIED:20200713T174705Z
UID:19027-1583884800-1583971199@teste.luzdesophia.org
SUMMARY:Jogo das Estrelas
DESCRIPTION:[cmsmasters_row data_shortcode_id=”9jirkvq0mg” data_width=”boxed” data_top_style=”default” data_bot_style=”default” data_color=”default” data_padding_top=”0″ data_padding_bottom=”0″][cmsmasters_column data_width=”1/1″ data_bg_position=”top center” data_bg_repeat=”no-repeat” data_bg_attachment=”scroll” data_bg_size=”cover” data_border_style=”default” data_animation_delay=”0″ data_shortcode_id=”6hrp6pdvb”][cmsmasters_text shortcode_id=”l4b43yeeft” animation_delay=”0″] \n[fts_facebook type=album_photos id=762275387233228 access_token=EAAP9hArvboQBAIQ5qFSn6ChMAOSE7JRyxX3V0XvZCZBmiD6IMVnGy4CVhe1b8o2E6V2QSZCrB1rNmfX2gtQ8GdZCHXvOkwT93c2K0k7tpPpfXr8ZCYpBpKBeKsXw87ZA3hauJcqgZBq8M5oUZAUmDZAQZBjhf5uIfpxrrH5P54oFm11gZDZD posts=8 description=no album_id=2665765793550835 image_width=640px image_height=400px space_between_photos=1px hide_date_likes_comments=yes center_container=yes] \n[/cmsmasters_text][/cmsmasters_column][/cmsmasters_row][cmsmasters_row data_shortcode_id=”eikkm325at” data_width=”boxed” data_top_style=”default” data_bot_style=”default” data_color=”default” data_padding_top=”30″ data_padding_bottom=”0″][cmsmasters_column data_width=”2/3″ data_bg_position=”top center” data_bg_repeat=”no-repeat” data_bg_attachment=”scroll” data_bg_size=”cover” data_border_style=”default” data_animation_delay=”0″ data_shortcode_id=”j9dlthjvo8″][cmsmasters_heading shortcode_id=”p8wkw5v498″ type=”h5″ font_size=”14″ line_height=”20″ font_weight=”600″ font_style=”default” text_align=”right” color=”#cd366b” margin_top=”0″ margin_bottom=”20″ animation_delay=”0″]Visualize o álbum de fotos do evento\, clicando no botão:[/cmsmasters_heading][/cmsmasters_column][cmsmasters_column data_width=”1/3″ data_shortcode_id=”4b0rfaniis”][cmsmasters_button shortcode_id=”mt0i1zqmwr” button_type=”regular” button_link=”https://www.facebook.com/pg/ongluzdesophia/photos/?tab=album&album_id=2665765793550835″ button_target=”blank” button_text_align=”left” button_font_weight=”default” button_font_style=”default” button_text_transform=”default” button_icon=”cmsmasters-icon-custom-camera” button_border_style=”default” button_bg_color=”#cd366b” button_border_color=”#cd366b” animation_delay=”0″]Fotos do Evento[/cmsmasters_button][/cmsmasters_column][/cmsmasters_row]
URL:https://teste.luzdesophia.org/evento/jogo-das-estrelas-2/
LOCATION:Centro Futebol Zico\, Av. Miguel Antônio Fernandes\, 700 - Recreio dos Bandeirantes\, Rio de Janeiro\, RJ\, 22790-682\, Brasil
CATEGORIES:Participações
ATTACH;FMTTYPE=image/jpeg:https://teste.luzdesophia.org/wp-content/uploads/2020/07/IMG-20200311-WA0231.jpg
ORGANIZER;CN="CFZ":MAILTO:cfz@cfzdorio.com.br
END:VEVENT
END:VCALENDAR